Package: treeio Version: 1.35.0 Command: /home/biocbuild/bbs-3.23-bioc/R/bin/R CMD build --keep-empty-dirs --no-resave-data treeio StartedAt: 2025-11-13 20:35:23 -0500 (Thu, 13 Nov 2025) EndedAt: 2025-11-13 20:35:32 -0500 (Thu, 13 Nov 2025) EllapsedTime: 9.0 seconds RetCode: 0 Status: OK PackageFile: treeio_1.35.0.tar.gz PackageFileSize: 678.8 KiB