Package: treeio Version: 1.35.0 Command: /Library/Frameworks/R.framework/Resources/bin/R CMD INSTALL treeio StartedAt: 2025-11-14 15:05:51 -0500 (Fri, 14 Nov 2025) EndedAt: 2025-11-14 15:05:54 -0500 (Fri, 14 Nov 2025) EllapsedTime: 3.2 seconds RetCode: 0 Status: OK