Package: treeio Version: 1.35.0 Command: /Library/Frameworks/R.framework/Resources/bin/R CMD build --keep-empty-dirs --no-resave-data treeio StartedAt: 2025-11-13 18:02:12 -0500 (Thu, 13 Nov 2025) EndedAt: 2025-11-13 18:02:17 -0500 (Thu, 13 Nov 2025) EllapsedTime: 5.1 seconds RetCode: 0 Status: OK PackageFile: treeio_1.35.0.tar.gz PackageFileSize: 678.8 KiB