Package: treeio Version: 1.35.0 Command: rm -rf treeio.buildbin-libdir && mkdir treeio.buildbin-libdir && /Users/biocbuild/BBS/utils/build-universal.sh treeio_1.35.0.tar.gz /Library/Frameworks/R.framework/Resources/bin/R treeio.buildbin-libdir StartedAt: 2025-11-14 00:00:20 -0500 (Fri, 14 Nov 2025) EndedAt: 2025-11-14 00:00:25 -0500 (Fri, 14 Nov 2025) EllapsedTime: 5.1 seconds RetCode: 0 Status: OK PackageFile: treeio_1.35.0.tgz PackageFileSize: 912.9 KiB