Package: treeclimbR Version: 1.7.0 Command: /home/biocbuild/bbs-3.23-bioc/R/bin/R CMD check --install=check:treeclimbR.install-out.txt --library=/home/biocbuild/bbs-3.23-bioc/R/site-library --timings treeclimbR_1.7.0.tar.gz StartedAt: 2025-11-15 05:04:50 -0500 (Sat, 15 Nov 2025) EndedAt: 2025-11-15 05:11:25 -0500 (Sat, 15 Nov 2025) EllapsedTime: 394.7 seconds RetCode: 0 Status: OK CheckDir: treeclimbR.Rcheck Warnings: 0