Package: treeclimbR Version: 1.7.0 Command: /home/biocbuild/bbs-3.23-bioc/R/bin/R CMD build --keep-empty-dirs --no-resave-data treeclimbR StartedAt: 2025-11-13 20:35:17 -0500 (Thu, 13 Nov 2025) EndedAt: 2025-11-13 20:36:24 -0500 (Thu, 13 Nov 2025) EllapsedTime: 67.1 seconds RetCode: 0 Status: OK PackageFile: treeclimbR_1.7.0.tar.gz PackageFileSize: 677.8 KiB