Package: treeclimbR Version: 1.7.0 Command: /Library/Frameworks/R.framework/Resources/bin/R CMD INSTALL treeclimbR StartedAt: 2025-11-14 15:18:10 -0500 (Fri, 14 Nov 2025) EndedAt: 2025-11-14 15:18:26 -0500 (Fri, 14 Nov 2025) EllapsedTime: 15.8 seconds RetCode: 0 Status: OK