Package: treeclimbR Version: 1.7.0 Command: /Library/Frameworks/R.framework/Resources/bin/R CMD build --keep-empty-dirs --no-resave-data treeclimbR StartedAt: 2025-11-14 17:59:14 -0500 (Fri, 14 Nov 2025) EndedAt: 2025-11-14 17:59:44 -0500 (Fri, 14 Nov 2025) EllapsedTime: 30.3 seconds RetCode: 0 Status: OK PackageFile: treeclimbR_1.7.0.tar.gz PackageFileSize: 745.1 KiB