Package: treeclimbR Version: 1.7.0 Command: rm -rf treeclimbR.buildbin-libdir && mkdir treeclimbR.buildbin-libdir && /Users/biocbuild/BBS/utils/build-universal.sh treeclimbR_1.7.0.tar.gz /Library/Frameworks/R.framework/Resources/bin/R treeclimbR.buildbin-libdir StartedAt: 2025-11-14 23:55:35 -0500 (Fri, 14 Nov 2025) EndedAt: 2025-11-14 23:55:55 -0500 (Fri, 14 Nov 2025) EllapsedTime: 19.5 seconds RetCode: 0 Status: OK PackageFile: treeclimbR_1.7.0.tgz PackageFileSize: 894.6 KiB