Package: transomics2cytoscape Version: 1.21.0 Command: /home/biocbuild/bbs-3.23-bioc/R/bin/R CMD INSTALL transomics2cytoscape StartedAt: 2025-11-14 15:26:03 -0500 (Fri, 14 Nov 2025) EndedAt: 2025-11-14 15:26:06 -0500 (Fri, 14 Nov 2025) EllapsedTime: 3.0 seconds RetCode: 0 Status: OK