Package: transomics2cytoscape Version: 1.21.0 Command: /Library/Frameworks/R.framework/Resources/bin/R CMD INSTALL transomics2cytoscape StartedAt: 2025-11-12 15:28:06 -0500 (Wed, 12 Nov 2025) EndedAt: 2025-11-12 15:28:08 -0500 (Wed, 12 Nov 2025) EllapsedTime: 2.0 seconds RetCode: 0 Status: OK