Package: transomics2cytoscape Version: 1.21.0 Command: /Library/Frameworks/R.framework/Resources/bin/R CMD build --keep-empty-dirs --no-resave-data transomics2cytoscape StartedAt: 2025-11-13 18:01:49 -0500 (Thu, 13 Nov 2025) EndedAt: 2025-11-13 18:01:55 -0500 (Thu, 13 Nov 2025) EllapsedTime: 6.1 seconds RetCode: 0 Status: OK PackageFile: transomics2cytoscape_1.21.0.tar.gz PackageFileSize: 11.82 MiB