Package: transomics2cytoscape Version: 1.21.0 Maintainer: Kozo Nishida MaintainerEmail: kozo.nishida at gmail.com git_url: https://git.bioconductor.org/packages/transomics2cytoscape git_branch: devel git_last_commit: ec6e45e git_last_commit_date: 2025-10-29 11:01:08 -0500 (Wed, 29 Oct 2025)