Package: transmogR Version: 1.7.0 Command: /Library/Frameworks/R.framework/Resources/bin/R CMD build --keep-empty-dirs --no-resave-data transmogR StartedAt: 2025-11-14 17:58:52 -0500 (Fri, 14 Nov 2025) EndedAt: 2025-11-14 17:59:31 -0500 (Fri, 14 Nov 2025) EllapsedTime: 38.4 seconds RetCode: 0 Status: OK PackageFile: transmogR_1.7.0.tar.gz PackageFileSize: 590.2 KiB