Package: transmogR Version: 1.7.0 Command: rm -rf transmogR.buildbin-libdir && mkdir transmogR.buildbin-libdir && /Users/biocbuild/BBS/utils/build-universal.sh transmogR_1.7.0.tar.gz /Library/Frameworks/R.framework/Resources/bin/R transmogR.buildbin-libdir StartedAt: 2025-11-14 23:55:31 -0500 (Fri, 14 Nov 2025) EndedAt: 2025-11-14 23:55:53 -0500 (Fri, 14 Nov 2025) EllapsedTime: 21.5 seconds RetCode: 0 Status: OK PackageFile: transmogR_1.7.0.tgz PackageFileSize: 663.9 KiB