Package: transformGamPoi Version: 1.17.0 Command: /home/biocbuild/bbs-3.23-bioc/R/bin/R CMD build --keep-empty-dirs --no-resave-data transformGamPoi StartedAt: 2025-11-14 20:34:20 -0500 (Fri, 14 Nov 2025) EndedAt: 2025-11-14 20:34:59 -0500 (Fri, 14 Nov 2025) EllapsedTime: 39.1 seconds RetCode: 0 Status: OK PackageFile: transformGamPoi_1.17.0.tar.gz PackageFileSize: 786.3 KiB