Package: transformGamPoi Version: 1.17.0 Command: rm -rf transformGamPoi.buildbin-libdir && mkdir transformGamPoi.buildbin-libdir && /Users/biocbuild/BBS/utils/build-universal.sh transformGamPoi_1.17.0.tar.gz /Library/Frameworks/R.framework/Resources/bin/R transformGamPoi.buildbin-libdir StartedAt: 2025-11-14 00:00:14 -0500 (Fri, 14 Nov 2025) EndedAt: 2025-11-14 00:00:20 -0500 (Fri, 14 Nov 2025) EllapsedTime: 6.1 seconds RetCode: 0 Status: OK PackageFile: transformGamPoi_1.17.0.tgz PackageFileSize: 704.8 KiB