Package: transformGamPoi Version: 1.17.0 Maintainer: Constantin Ahlmann-Eltze MaintainerEmail: artjom31415 at googlemail.com git_url: https://git.bioconductor.org/packages/transformGamPoi git_branch: devel git_last_commit: 7ddcbe2 git_last_commit_date: 2025-10-29 11:12:07 -0500 (Wed, 29 Oct 2025)