Package: transcriptogramer Version: 1.33.0 Command: /home/biocbuild/bbs-3.23-bioc/R/bin/R CMD check --install=check:transcriptogramer.install-out.txt --library=/home/biocbuild/bbs-3.23-bioc/R/site-library --timings transcriptogramer_1.33.0.tar.gz StartedAt: 2025-11-15 05:01:55 -0500 (Sat, 15 Nov 2025) EndedAt: 2025-11-15 05:17:13 -0500 (Sat, 15 Nov 2025) EllapsedTime: 918.2 seconds RetCode: 0 Status: OK CheckDir: transcriptogramer.Rcheck Warnings: 0