Package: transcriptogramer Version: 1.33.0 Command: /home/biocbuild/bbs-3.23-bioc/R/bin/R CMD build --keep-empty-dirs --no-resave-data transcriptogramer StartedAt: 2025-11-13 20:34:15 -0500 (Thu, 13 Nov 2025) EndedAt: 2025-11-13 20:45:37 -0500 (Thu, 13 Nov 2025) EllapsedTime: 681.6 seconds RetCode: 0 Status: OK PackageFile: transcriptogramer_1.33.0.tar.gz PackageFileSize: 3.63 MiB