Package: transcriptogramer Version: 1.33.0 Command: /Library/Frameworks/R.framework/Resources/bin/R CMD INSTALL transcriptogramer StartedAt: 2025-11-12 15:38:34 -0500 (Wed, 12 Nov 2025) EndedAt: 2025-11-12 15:38:45 -0500 (Wed, 12 Nov 2025) EllapsedTime: 10.3 seconds RetCode: 0 Status: OK