Package: transcriptogramer Version: 1.33.0 Command: /Library/Frameworks/R.framework/Resources/bin/R CMD check --install=check:transcriptogramer.install-out.txt --library=/Library/Frameworks/R.framework/Resources/library --no-vignettes --timings transcriptogramer_1.33.0.tar.gz StartedAt: 2025-11-21 23:00:55 -0500 (Fri, 21 Nov 2025) EndedAt: 2025-11-21 23:02:38 -0500 (Fri, 21 Nov 2025) EllapsedTime: 102.3 seconds RetCode: 0 Status: OK CheckDir: transcriptogramer.Rcheck Warnings: 0