Package: transcriptogramer Version: 1.33.0 Command: /Library/Frameworks/R.framework/Resources/bin/R CMD build --keep-empty-dirs --no-resave-data transcriptogramer StartedAt: 2025-11-12 17:24:39 -0500 (Wed, 12 Nov 2025) EndedAt: 2025-11-12 17:31:07 -0500 (Wed, 12 Nov 2025) EllapsedTime: 388.2 seconds RetCode: 0 Status: OK PackageFile: transcriptogramer_1.33.0.tar.gz PackageFileSize: 3.63 MiB