Package: transcriptR Version: 1.39.0 Command: /home/biocbuild/bbs-3.23-bioc/R/bin/R CMD INSTALL transcriptR StartedAt: 2025-11-13 15:56:44 -0500 (Thu, 13 Nov 2025) EndedAt: 2025-11-13 15:57:34 -0500 (Thu, 13 Nov 2025) EllapsedTime: 49.8 seconds RetCode: 0 Status: OK