Package: transcriptR Version: 1.39.0 Command: /home/biocbuild/bbs-3.23-bioc/R/bin/R CMD build --keep-empty-dirs --no-resave-data transcriptR StartedAt: 2025-11-11 20:39:05 -0500 (Tue, 11 Nov 2025) EndedAt: 2025-11-11 20:40:29 -0500 (Tue, 11 Nov 2025) EllapsedTime: 84.1 seconds RetCode: 0 Status: OK PackageFile: transcriptR_1.39.0.tar.gz PackageFileSize: 3.561 MiB