Package: transcriptR Version: 1.39.0 Command: /Library/Frameworks/R.framework/Resources/bin/R CMD build --keep-empty-dirs --no-resave-data transcriptR StartedAt: 2025-11-13 18:01:15 -0500 (Thu, 13 Nov 2025) EndedAt: 2025-11-13 18:01:57 -0500 (Thu, 13 Nov 2025) EllapsedTime: 42.5 seconds RetCode: 0 Status: OK PackageFile: transcriptR_1.39.0.tar.gz PackageFileSize: 3.568 MiB