Package: transcriptR Version: 1.39.0 Command: rm -rf transcriptR.buildbin-libdir && mkdir transcriptR.buildbin-libdir && /Users/biocbuild/BBS/utils/build-universal.sh transcriptR_1.39.0.tar.gz /Library/Frameworks/R.framework/Resources/bin/R transcriptR.buildbin-libdir StartedAt: 2025-11-14 00:00:13 -0500 (Fri, 14 Nov 2025) EndedAt: 2025-11-14 00:00:36 -0500 (Fri, 14 Nov 2025) EllapsedTime: 23.5 seconds RetCode: 0 Status: OK PackageFile: transcriptR_1.39.0.tgz PackageFileSize: 3.191 MiB