Package: tracktables Version: 1.45.0 Command: /home/biocbuild/bbs-3.23-bioc/R/bin/R CMD INSTALL tracktables StartedAt: 2025-11-16 15:57:54 -0500 (Sun, 16 Nov 2025) EndedAt: 2025-11-16 15:58:07 -0500 (Sun, 16 Nov 2025) EllapsedTime: 13.6 seconds RetCode: 0 Status: OK