Package: tracktables Version: 1.45.0 Command: /home/biocbuild/bbs-3.23-bioc/R/bin/R CMD build --keep-empty-dirs --no-resave-data tracktables StartedAt: 2025-11-16 20:39:15 -0500 (Sun, 16 Nov 2025) EndedAt: 2025-11-16 20:39:36 -0500 (Sun, 16 Nov 2025) EllapsedTime: 21.0 seconds RetCode: 0 Status: OK PackageFile: tracktables_1.45.0.tar.gz PackageFileSize: 356 KiB