Package: tracktables Version: 1.45.0 Command: /Library/Frameworks/R.framework/Resources/bin/R CMD build --keep-empty-dirs --no-resave-data tracktables StartedAt: 2025-11-12 17:24:31 -0500 (Wed, 12 Nov 2025) EndedAt: 2025-11-12 17:24:43 -0500 (Wed, 12 Nov 2025) EllapsedTime: 12.2 seconds RetCode: 0 Status: OK PackageFile: tracktables_1.45.0.tar.gz PackageFileSize: 355.6 KiB