Package: tracktables Version: 1.45.0 Command: rm -rf tracktables.buildbin-libdir && mkdir tracktables.buildbin-libdir && /Users/biocbuild/BBS/utils/build-universal.sh tracktables_1.45.0.tar.gz /Library/Frameworks/R.framework/Resources/bin/R tracktables.buildbin-libdir StartedAt: 2025-11-12 21:13:05 -0500 (Wed, 12 Nov 2025) EndedAt: 2025-11-12 21:13:12 -0500 (Wed, 12 Nov 2025) EllapsedTime: 7.2 seconds RetCode: 0 Status: OK PackageFile: tracktables_1.45.0.tgz PackageFileSize: 404.1 KiB