Package: trackViewer Version: 1.47.0 Command: /home/biocbuild/bbs-3.23-bioc/R/bin/R CMD build --keep-empty-dirs --no-resave-data trackViewer StartedAt: 2025-11-13 20:33:58 -0500 (Thu, 13 Nov 2025) EndedAt: 2025-11-13 20:45:50 -0500 (Thu, 13 Nov 2025) EllapsedTime: 711.7 seconds RetCode: 0 Status: OK PackageFile: trackViewer_1.47.0.tar.gz PackageFileSize: 10.59 MiB