Package: trackViewer Version: 1.47.0 Command: /Library/Frameworks/R.framework/Resources/bin/R CMD INSTALL trackViewer StartedAt: 2025-11-12 15:43:30 -0500 (Wed, 12 Nov 2025) EndedAt: 2025-11-12 15:43:31 -0500 (Wed, 12 Nov 2025) EllapsedTime: 1.0 seconds RetCode: 1 Status: ERROR