Package: tpSVG Version: 1.7.0 Command: /Library/Frameworks/R.framework/Resources/bin/R CMD INSTALL tpSVG StartedAt: 2025-11-13 15:14:02 -0500 (Thu, 13 Nov 2025) EndedAt: 2025-11-13 15:14:11 -0500 (Thu, 13 Nov 2025) EllapsedTime: 9.5 seconds RetCode: 0 Status: OK