Package: tpSVG Version: 1.7.0 Command: /Library/Frameworks/R.framework/Resources/bin/R CMD build --keep-empty-dirs --no-resave-data tpSVG StartedAt: 2025-11-13 18:00:49 -0500 (Thu, 13 Nov 2025) EndedAt: 2025-11-13 18:01:37 -0500 (Thu, 13 Nov 2025) EllapsedTime: 48.6 seconds RetCode: 0 Status: OK PackageFile: tpSVG_1.7.0.tar.gz PackageFileSize: 1.237 MiB