Package: tpSVG Version: 1.7.0 Command: rm -rf tpSVG.buildbin-libdir && mkdir tpSVG.buildbin-libdir && /Users/biocbuild/BBS/utils/build-universal.sh tpSVG_1.7.0.tar.gz /Library/Frameworks/R.framework/Resources/bin/R tpSVG.buildbin-libdir StartedAt: 2025-11-14 00:00:07 -0500 (Fri, 14 Nov 2025) EndedAt: 2025-11-14 00:00:20 -0500 (Fri, 14 Nov 2025) EllapsedTime: 12.3 seconds RetCode: 0 Status: OK PackageFile: tpSVG_1.7.0.tgz PackageFileSize: 1.241 MiB