Package: tpSVG Version: 1.7.0 Maintainer: Boyi Guo MaintainerEmail: boyi.guo.work at gmail.com git_url: https://git.bioconductor.org/packages/tpSVG git_branch: devel git_last_commit: 762d511 git_last_commit_date: 2025-10-29 11:28:17 -0500 (Wed, 29 Oct 2025)