Package: topdownr Version: 1.33.0 Command: /home/biocbuild/bbs-3.23-bioc/R/bin/R CMD build --keep-empty-dirs --no-resave-data topdownr StartedAt: 2025-11-21 20:33:03 -0500 (Fri, 21 Nov 2025) EndedAt: 2025-11-21 20:34:30 -0500 (Fri, 21 Nov 2025) EllapsedTime: 86.1 seconds RetCode: 0 Status: OK PackageFile: topdownr_1.33.0.tar.gz PackageFileSize: 1.554 MiB