Package: topdownr Version: 1.33.0 Command: /Library/Frameworks/R.framework/Resources/bin/R CMD build --keep-empty-dirs --no-resave-data topdownr StartedAt: 2025-11-14 17:57:20 -0500 (Fri, 14 Nov 2025) EndedAt: 2025-11-14 17:58:05 -0500 (Fri, 14 Nov 2025) EllapsedTime: 44.5 seconds RetCode: 0 Status: OK PackageFile: topdownr_1.33.0.tar.gz PackageFileSize: 1.568 MiB