Package: topdownr Version: 1.33.0 Command: rm -rf topdownr.buildbin-libdir && mkdir topdownr.buildbin-libdir && /Users/biocbuild/BBS/utils/build-universal.sh topdownr_1.33.0.tar.gz /Library/Frameworks/R.framework/Resources/bin/R topdownr.buildbin-libdir StartedAt: 2025-11-14 00:00:02 -0500 (Fri, 14 Nov 2025) EndedAt: 2025-11-14 00:00:24 -0500 (Fri, 14 Nov 2025) EllapsedTime: 21.5 seconds RetCode: 0 Status: OK PackageFile: topdownr_1.33.0.tgz PackageFileSize: 2.364 MiB