Package: tomoseqr Version: 1.15.0 Command: /Library/Frameworks/R.framework/Resources/bin/R CMD INSTALL tomoseqr StartedAt: 2025-11-12 15:19:54 -0500 (Wed, 12 Nov 2025) EndedAt: 2025-11-12 15:20:01 -0500 (Wed, 12 Nov 2025) EllapsedTime: 7.6 seconds RetCode: 0 Status: OK