Package: tomoseqr Version: 1.15.0 Command: /Library/Frameworks/R.framework/Resources/bin/R CMD build --keep-empty-dirs --no-resave-data tomoseqr StartedAt: 2025-11-13 18:00:01 -0500 (Thu, 13 Nov 2025) EndedAt: 2025-11-13 18:00:11 -0500 (Thu, 13 Nov 2025) EllapsedTime: 10.1 seconds RetCode: 0 Status: OK PackageFile: tomoseqr_1.15.0.tar.gz PackageFileSize: 1.558 MiB