Package: tomoseqr Version: 1.15.0 Command: rm -rf tomoseqr.buildbin-libdir && mkdir tomoseqr.buildbin-libdir && /Users/biocbuild/BBS/utils/build-universal.sh tomoseqr_1.15.0.tar.gz /Library/Frameworks/R.framework/Resources/bin/R tomoseqr.buildbin-libdir StartedAt: 2025-11-12 21:12:59 -0500 (Wed, 12 Nov 2025) EndedAt: 2025-11-12 21:13:05 -0500 (Wed, 12 Nov 2025) EllapsedTime: 5.1 seconds RetCode: 0 Status: OK PackageFile: tomoseqr_1.15.0.tgz PackageFileSize: 1.221 MiB