Package: tomoseqr Version: 1.15.0 Maintainer: Ryosuke Matsuzawa MaintainerEmail: kinakomochi.work at gmail.com git_url: https://git.bioconductor.org/packages/tomoseqr git_branch: devel git_last_commit: 5f3f9ac git_last_commit_date: 2025-10-29 11:16:02 -0500 (Wed, 29 Oct 2025)