Package: tkWidgets Version: 1.89.0 Command: /home/biocbuild/bbs-3.23-bioc/R/bin/R CMD INSTALL tkWidgets StartedAt: 2025-11-11 15:09:06 -0500 (Tue, 11 Nov 2025) EndedAt: 2025-11-11 15:09:12 -0500 (Tue, 11 Nov 2025) EllapsedTime: 6.5 seconds RetCode: 0 Status: OK