Package: tkWidgets Version: 1.89.0 Command: /Library/Frameworks/R.framework/Resources/bin/R CMD build --keep-empty-dirs --no-resave-data tkWidgets StartedAt: 2025-11-12 17:23:38 -0500 (Wed, 12 Nov 2025) EndedAt: 2025-11-12 17:23:49 -0500 (Wed, 12 Nov 2025) EllapsedTime: 10.1 seconds RetCode: 0 Status: OK PackageFile: tkWidgets_1.89.0.tar.gz PackageFileSize: 476.6 KiB