Package: timecourse Version: 1.83.0 Command: /home/biocbuild/bbs-3.23-bioc/R/bin/R CMD INSTALL timecourse StartedAt: 2025-11-13 15:12:47 -0500 (Thu, 13 Nov 2025) EndedAt: 2025-11-13 15:12:52 -0500 (Thu, 13 Nov 2025) EllapsedTime: 5.1 seconds RetCode: 0 Status: OK