Package: timecourse Version: 1.83.0 Command: /home/biocbuild/bbs-3.23-bioc/R/bin/R CMD build --keep-empty-dirs --no-resave-data timecourse StartedAt: 2025-11-13 20:31:34 -0500 (Thu, 13 Nov 2025) EndedAt: 2025-11-13 20:31:49 -0500 (Thu, 13 Nov 2025) EllapsedTime: 15.0 seconds RetCode: 0 Status: OK PackageFile: timecourse_1.83.0.tar.gz PackageFileSize: 841.7 KiB