Package: timecourse Version: 1.83.0 Command: /Library/Frameworks/R.framework/Resources/bin/R CMD build --keep-empty-dirs --no-resave-data timecourse StartedAt: 2025-11-13 17:59:22 -0500 (Thu, 13 Nov 2025) EndedAt: 2025-11-13 17:59:31 -0500 (Thu, 13 Nov 2025) EllapsedTime: 9.1 seconds RetCode: 0 Status: OK PackageFile: timecourse_1.83.0.tar.gz PackageFileSize: 841.2 KiB