Package: timecourse Version: 1.83.0 Command: rm -rf timecourse.buildbin-libdir && mkdir timecourse.buildbin-libdir && /Users/biocbuild/BBS/utils/build-universal.sh timecourse_1.83.0.tar.gz /Library/Frameworks/R.framework/Resources/bin/R timecourse.buildbin-libdir StartedAt: 2025-11-13 23:59:56 -0500 (Thu, 13 Nov 2025) EndedAt: 2025-11-14 00:00:00 -0500 (Fri, 14 Nov 2025) EllapsedTime: 4.1 seconds RetCode: 0 Status: OK PackageFile: timecourse_1.83.0.tgz PackageFileSize: 945.4 KiB